BEGIN:VCALENDAR
VERSION:2.0
PRODID: Ultiorganizer


BEGIN:VEVENT
SUMMARY:LFO Beta-Vira o Disco
DESCRIPTION:Div. Mista: Liga 2021
LOCATION:  1
DTSTART;TZID=Europe/Lisbon:20211010T090000
DURATION: P75M
GEO:;
END:VEVENT

BEGIN:VEVENT
SUMMARY:LFO Premium-Gambozinos
DESCRIPTION:Div. Mista: Liga 2021
LOCATION:  2
DTSTART;TZID=Europe/Lisbon:20211010T090000
DURATION: P75M
GEO:;
END:VEVENT

BEGIN:VEVENT
SUMMARY:UFA-DiscOver Lisboa
DESCRIPTION:Div. Mista: Liga 2021
LOCATION:  1
DTSTART;TZID=Europe/Lisbon:20211010T101500
DURATION: P75M
GEO:;
END:VEVENT

BEGIN:VEVENT
SUMMARY:LFO Premium-Javalis
DESCRIPTION:Div. Mista: Liga 2021
LOCATION:  1
DTSTART;TZID=Europe/Lisbon:20211010T113000
DURATION: P75M
GEO:;
END:VEVENT

BEGIN:VEVENT
SUMMARY:Vira o Disco-Gambozinos
DESCRIPTION:Div. Mista: Liga 2021
LOCATION:  2
DTSTART;TZID=Europe/Lisbon:20211010T113000
DURATION: P75M
GEO:;
END:VEVENT

BEGIN:VEVENT
SUMMARY:LFO Beta-UFA
DESCRIPTION:Div. Mista: Liga 2021
LOCATION:  1
DTSTART;TZID=Europe/Lisbon:20211010T124500
DURATION: P75M
GEO:;
END:VEVENT

BEGIN:VEVENT
SUMMARY:LFO Premium-Vira o Disco
DESCRIPTION:Div. Mista: Liga 2021
LOCATION:  1
DTSTART;TZID=Europe/Lisbon:20211010T140000
DURATION: P75M
GEO:;
END:VEVENT

BEGIN:VEVENT
SUMMARY:Javalis-DiscOver Lisboa
DESCRIPTION:Div. Mista: Liga 2021
LOCATION:  2
DTSTART;TZID=Europe/Lisbon:20211010T140000
DURATION: P75M
GEO:;
END:VEVENT

BEGIN:VEVENT
SUMMARY:Gambozinos-UFA
DESCRIPTION:Div. Mista: Liga 2021
LOCATION:  1
DTSTART;TZID=Europe/Lisbon:20211010T151500
DURATION: P75M
GEO:;
END:VEVENT

BEGIN:VEVENT
SUMMARY:DiscOver Lisboa-LFO Beta
DESCRIPTION:Div. Mista: Liga 2021
LOCATION:  2
DTSTART;TZID=Europe/Lisbon:20211010T163000
DURATION: P75M
GEO:;
END:VEVENT

BEGIN:VEVENT
SUMMARY:LFO Premium-DiscOver Lisboa
DESCRIPTION:Div. Mista: Liga 2021
LOCATION:  1
DTSTART;TZID=Europe/Lisbon:20211023T090000
DURATION: P75M
GEO:;
END:VEVENT

BEGIN:VEVENT
SUMMARY:LFO Beta-Gambozinos
DESCRIPTION:Div. Mista: Liga 2021
LOCATION:  2
DTSTART;TZID=Europe/Lisbon:20211023T090000
DURATION: P75M
GEO:;
END:VEVENT

BEGIN:VEVENT
SUMMARY:Vira o Disco-UFA
DESCRIPTION:Div. Mista: Liga 2021
LOCATION:  1
DTSTART;TZID=Europe/Lisbon:20211023T101500
DURATION: P75M
GEO:;
END:VEVENT

BEGIN:VEVENT
SUMMARY:Gambozinos-DiscOver Lisboa
DESCRIPTION:Div. Mista: Liga 2021
LOCATION:  1
DTSTART;TZID=Europe/Lisbon:20211023T113000
DURATION: P75M
GEO:;
END:VEVENT

BEGIN:VEVENT
SUMMARY:LFO Beta-Javalis
DESCRIPTION:Div. Mista: Liga 2021
LOCATION:  2
DTSTART;TZID=Europe/Lisbon:20211023T113000
DURATION: P75M
GEO:;
END:VEVENT

BEGIN:VEVENT
SUMMARY:Vira o Disco-Javalis
DESCRIPTION:Div. Mista: Liga 2021
LOCATION:  1
DTSTART;TZID=Europe/Lisbon:20211023T124500
DURATION: P75M
GEO:;
END:VEVENT

BEGIN:VEVENT
SUMMARY:LFO Premium-UFA
DESCRIPTION:Div. Mista: Liga 2021
LOCATION:  1
DTSTART;TZID=Europe/Lisbon:20211023T140000
DURATION: P75M
GEO:;
END:VEVENT

BEGIN:VEVENT
SUMMARY:Gambozinos-Javalis
DESCRIPTION:Div. Mista: Liga 2021
LOCATION:  1
DTSTART;TZID=Europe/Lisbon:20211023T151500
DURATION: P75M
GEO:;
END:VEVENT

BEGIN:VEVENT
SUMMARY:Vira o Disco-DiscOver Lisboa
DESCRIPTION:Div. Mista: Liga 2021
LOCATION:  2
DTSTART;TZID=Europe/Lisbon:20211023T151500
DURATION: P75M
GEO:;
END:VEVENT

BEGIN:VEVENT
SUMMARY:LFO Beta-LFO Premium
DESCRIPTION:Div. Mista: Liga 2021
LOCATION:  1
DTSTART;TZID=Europe/Lisbon:20211023T163000
DURATION: P75M
GEO:;
END:VEVENT

BEGIN:VEVENT
SUMMARY:UFA-Javalis
DESCRIPTION:Div. Mista: Liga 2021
LOCATION:  2
DTSTART;TZID=Europe/Lisbon:20211023T163000
DURATION: P75M
GEO:;
END:VEVENT

END:VCALENDAR
