BEGIN:VCALENDAR
VERSION:2.0
PRODID: Ultiorganizer


BEGIN:VEVENT
SUMMARY:LFO Girls-Marias
DESCRIPTION:Women: Pool F
LOCATION: Campo de futebol do Soutocico 2
DTSTART;TZID=Europe/Lisbon:20241124T083000
DURATION: P80M
GEO:0.0000000000000;0.0000000000000
END:VEVENT

END:VCALENDAR
