BEGIN:VCALENDAR
VERSION:2.0
PRODID: Ultiorganizer


BEGIN:VEVENT
SUMMARY:Vira o Disco-DiscOver2
DESCRIPTION:Mix: Grupo B
LOCATION: Pavilhão Carlos Neto 1
DTSTART;TZID=Europe/Lisbon:20251213T093500
DURATION: P35M
GEO:0.0000000000000;0.0000000000000
END:VEVENT

BEGIN:VEVENT
SUMMARY:Nortada1-Gambozinos
DESCRIPTION:Mix: Grupo B
LOCATION: Pavilhão Carlos Neto 1
DTSTART;TZID=Europe/Lisbon:20251213T104500
DURATION: P35M
GEO:0.0000000000000;0.0000000000000
END:VEVENT

BEGIN:VEVENT
SUMMARY:LFO Premium-Vira o Disco
DESCRIPTION:Mix: Grupo B
LOCATION: Pavilhão Carlos Neto 1
DTSTART;TZID=Europe/Lisbon:20251213T115500
DURATION: P35M
GEO:0.0000000000000;0.0000000000000
END:VEVENT

BEGIN:VEVENT
SUMMARY:Gambozinos-DiscOver2
DESCRIPTION:Mix: Grupo B
LOCATION: Pavilhão Carlos Neto 1
DTSTART;TZID=Europe/Lisbon:20251213T130500
DURATION: P35M
GEO:0.0000000000000;0.0000000000000
END:VEVENT

BEGIN:VEVENT
SUMMARY:Nortada1-LFO Premium
DESCRIPTION:Mix: Grupo B
LOCATION: Pavilhão Carlos Neto 1
DTSTART;TZID=Europe/Lisbon:20251213T141500
DURATION: P35M
GEO:0.0000000000000;0.0000000000000
END:VEVENT

BEGIN:VEVENT
SUMMARY:Vira o Disco-Gambozinos
DESCRIPTION:Mix: Grupo B
LOCATION: Pavilhão Carlos Neto 1
DTSTART;TZID=Europe/Lisbon:20251213T152500
DURATION: P35M
GEO:0.0000000000000;0.0000000000000
END:VEVENT

BEGIN:VEVENT
SUMMARY:DiscOver2-Nortada1
DESCRIPTION:Mix: Grupo B
LOCATION: Pavilhão Carlos Neto 1
DTSTART;TZID=Europe/Lisbon:20251213T163500
DURATION: P35M
GEO:0.0000000000000;0.0000000000000
END:VEVENT

BEGIN:VEVENT
SUMMARY:LFO Premium-Gambozinos
DESCRIPTION:Mix: Grupo B
LOCATION: Pavilhão Carlos Neto 1
DTSTART;TZID=Europe/Lisbon:20251213T174500
DURATION: P35M
GEO:0.0000000000000;0.0000000000000
END:VEVENT

BEGIN:VEVENT
SUMMARY:DiscOver2-LFO Premium
DESCRIPTION:Mix: Grupo B
LOCATION: Pavilhão Carlos Neto 1
DTSTART;TZID=Europe/Lisbon:20251213T185500
DURATION: P35M
GEO:0.0000000000000;0.0000000000000
END:VEVENT

BEGIN:VEVENT
SUMMARY:Vira o Disco-Nortada1
DESCRIPTION:Mix: Grupo B
LOCATION: Pavilhão Carlos Neto 1
DTSTART;TZID=Europe/Lisbon:20251214T093500
DURATION: P35M
GEO:0.0000000000000;0.0000000000000
END:VEVENT

END:VCALENDAR
