BEGIN:VCALENDAR
VERSION:2.0
PRODID: Ultiorganizer


BEGIN:VEVENT
SUMMARY:UC Burning Ribbons-DiscOver2
DESCRIPTION:Mix: SF 4
LOCATION: Pavilhão Carlos Neto 1
DTSTART;TZID=Europe/Lisbon:20251214T101000
DURATION: P35M
GEO:0.0000000000000;0.0000000000000
END:VEVENT

END:VCALENDAR
