BEGIN:VCALENDAR
VERSION:2.0
PRODID: Ultiorganizer


BEGIN:VEVENT
SUMMARY:DiscOver1-Gambozinos
DESCRIPTION:Mix: SF 2
LOCATION: Pavilhão Carlos Neto 1
DTSTART;TZID=Europe/Lisbon:20251214T112000
DURATION: P35M
GEO:0.0000000000000;0.0000000000000
END:VEVENT

END:VCALENDAR
