BEGIN:VCALENDAR
VERSION:2.0
PRODID: Ultiorganizer


BEGIN:VEVENT
SUMMARY:Nortada1-DiscOver1
DESCRIPTION:Mix: Placement 2
LOCATION: Pavilhão Carlos Neto 1
DTSTART;TZID=Europe/Lisbon:20251214T150000
DURATION: P50M
GEO:0.0000000000000;0.0000000000000
END:VEVENT

END:VCALENDAR
