BEGIN:VCALENDAR
VERSION:2.0
PRODID: Ultiorganizer


BEGIN:VEVENT
SUMMARY:Vira o Disco-DiscOver2
DESCRIPTION:Mix: Placement 3
LOCATION: Pavilhão Carlos Neto 1
DTSTART;TZID=Europe/Lisbon:20251214T141000
DURATION: P50M
GEO:0.0000000000000;0.0000000000000
END:VEVENT

END:VCALENDAR
