BEGIN:VCALENDAR
VERSION:2.0
PRODID: Ultiorganizer


BEGIN:VEVENT
SUMMARY:Nortada2-LFO Premium
DESCRIPTION:Mix: Placement 5
LOCATION: Pavilhão Carlos Neto 1
DTSTART;TZID=Europe/Lisbon:20251214T123000
DURATION: P50M
GEO:0.0000000000000;0.0000000000000
END:VEVENT

END:VCALENDAR
