BEGIN:VCALENDAR
VERSION:2.0
PRODID: Ultiorganizer


BEGIN:VEVENT
SUMMARY:LFO Beta-LFO Premium
DESCRIPTION:Mix: RR
LOCATION: Praia de Matosinhos 1
DTSTART;TZID=Europe/Lisbon:20260425T100000
DURATION: P60M
GEO:0.0000000000000;0.0000000000000
END:VEVENT

BEGIN:VEVENT
SUMMARY:Nortada-Gambozinos
DESCRIPTION:Mix: RR
LOCATION: Praia de Matosinhos 2
DTSTART;TZID=Europe/Lisbon:20260425T100000
DURATION: P60M
GEO:0.0000000000000;0.0000000000000
END:VEVENT

BEGIN:VEVENT
SUMMARY:Vira o Disco-DiscOver
DESCRIPTION:Mix: RR
LOCATION: Praia de Matosinhos 1
DTSTART;TZID=Europe/Lisbon:20260425T110000
DURATION: P60M
GEO:0.0000000000000;0.0000000000000
END:VEVENT

BEGIN:VEVENT
SUMMARY:Gambozinos-LFO Premium
DESCRIPTION:Mix: RR
LOCATION: Praia de Matosinhos 1
DTSTART;TZID=Europe/Lisbon:20260425T120000
DURATION: P60M
GEO:0.0000000000000;0.0000000000000
END:VEVENT

BEGIN:VEVENT
SUMMARY:Nortada-UFA
DESCRIPTION:Mix: RR
LOCATION: Praia de Matosinhos 2
DTSTART;TZID=Europe/Lisbon:20260425T120000
DURATION: P60M
GEO:0.0000000000000;0.0000000000000
END:VEVENT

BEGIN:VEVENT
SUMMARY:LFO Beta-Vira o Disco
DESCRIPTION:Mix: RR
LOCATION: Praia de Matosinhos 1
DTSTART;TZID=Europe/Lisbon:20260425T130000
DURATION: P60M
GEO:0.0000000000000;0.0000000000000
END:VEVENT

BEGIN:VEVENT
SUMMARY:DiscOver-Gambozinos
DESCRIPTION:Mix: RR
LOCATION: Praia de Matosinhos 1
DTSTART;TZID=Europe/Lisbon:20260425T140000
DURATION: P60M
GEO:0.0000000000000;0.0000000000000
END:VEVENT

BEGIN:VEVENT
SUMMARY:LFO Premium-UFA
DESCRIPTION:Mix: RR
LOCATION: Praia de Matosinhos 2
DTSTART;TZID=Europe/Lisbon:20260425T140000
DURATION: P60M
GEO:0.0000000000000;0.0000000000000
END:VEVENT

BEGIN:VEVENT
SUMMARY:LFO Beta-Nortada
DESCRIPTION:Mix: RR
LOCATION: Praia de Matosinhos 1
DTSTART;TZID=Europe/Lisbon:20260425T150000
DURATION: P60M
GEO:0.0000000000000;0.0000000000000
END:VEVENT

BEGIN:VEVENT
SUMMARY:Vira o Disco-LFO Premium
DESCRIPTION:Mix: RR
LOCATION: Praia de Matosinhos 1
DTSTART;TZID=Europe/Lisbon:20260425T160000
DURATION: P60M
GEO:0.0000000000000;0.0000000000000
END:VEVENT

BEGIN:VEVENT
SUMMARY:DiscOver-UFA
DESCRIPTION:Mix: RR
LOCATION: Praia de Matosinhos 2
DTSTART;TZID=Europe/Lisbon:20260425T160000
DURATION: P60M
GEO:0.0000000000000;0.0000000000000
END:VEVENT

BEGIN:VEVENT
SUMMARY:UFA-Gambozinos
DESCRIPTION:Mix: RR
LOCATION: Praia de Matosinhos 1
DTSTART;TZID=Europe/Lisbon:20260426T090000
DURATION: P60M
GEO:0.0000000000000;0.0000000000000
END:VEVENT

BEGIN:VEVENT
SUMMARY:LFO Premium-Nortada
DESCRIPTION:Mix: RR
LOCATION: Praia de Matosinhos 2
DTSTART;TZID=Europe/Lisbon:20260426T090000
DURATION: P60M
GEO:0.0000000000000;0.0000000000000
END:VEVENT

BEGIN:VEVENT
SUMMARY:DiscOver-LFO Beta
DESCRIPTION:Mix: RR
LOCATION: Praia de Matosinhos 1
DTSTART;TZID=Europe/Lisbon:20260426T100000
DURATION: P60M
GEO:0.0000000000000;0.0000000000000
END:VEVENT

BEGIN:VEVENT
SUMMARY:UFA-Vira o Disco
DESCRIPTION:Mix: RR
LOCATION: Praia de Matosinhos 1
DTSTART;TZID=Europe/Lisbon:20260426T110000
DURATION: P60M
GEO:0.0000000000000;0.0000000000000
END:VEVENT

BEGIN:VEVENT
SUMMARY:LFO Premium-DiscOver
DESCRIPTION:Mix: RR
LOCATION: Praia de Matosinhos 1
DTSTART;TZID=Europe/Lisbon:20260426T120000
DURATION: P60M
GEO:0.0000000000000;0.0000000000000
END:VEVENT

BEGIN:VEVENT
SUMMARY:Gambozinos-LFO Beta
DESCRIPTION:Mix: RR
LOCATION: Praia de Matosinhos 2
DTSTART;TZID=Europe/Lisbon:20260426T120000
DURATION: P60M
GEO:0.0000000000000;0.0000000000000
END:VEVENT

BEGIN:VEVENT
SUMMARY:Vira o Disco-Nortada
DESCRIPTION:Mix: RR
LOCATION: Praia de Matosinhos 1
DTSTART;TZID=Europe/Lisbon:20260426T130000
DURATION: P60M
GEO:0.0000000000000;0.0000000000000
END:VEVENT

BEGIN:VEVENT
SUMMARY:UFA-LFO Beta
DESCRIPTION:Mix: RR
LOCATION: Praia de Matosinhos 1
DTSTART;TZID=Europe/Lisbon:20260426T140000
DURATION: P60M
GEO:0.0000000000000;0.0000000000000
END:VEVENT

BEGIN:VEVENT
SUMMARY:Nortada-DiscOver
DESCRIPTION:Mix: RR
LOCATION: Praia de Matosinhos 1
DTSTART;TZID=Europe/Lisbon:20260426T150000
DURATION: P60M
GEO:0.0000000000000;0.0000000000000
END:VEVENT

BEGIN:VEVENT
SUMMARY:Gambozinos-Vira o Disco
DESCRIPTION:Mix: RR
LOCATION: Praia de Matosinhos 2
DTSTART;TZID=Europe/Lisbon:20260426T150000
DURATION: P60M
GEO:0.0000000000000;0.0000000000000
END:VEVENT

BEGIN:VEVENT
SUMMARY:-
DESCRIPTION:Mix: PA
LOCATION: Praia da Lagoa de Albufeira 1
DTSTART;TZID=Europe/Lisbon:20260516T100000
DURATION: P60M
GEO:0.0000000000000;0.0000000000000
END:VEVENT

BEGIN:VEVENT
SUMMARY:-
DESCRIPTION:Mix: PA
LOCATION: Praia da Lagoa de Albufeira 1
DTSTART;TZID=Europe/Lisbon:20260516T120000
DURATION: P60M
GEO:0.0000000000000;0.0000000000000
END:VEVENT

BEGIN:VEVENT
SUMMARY:-
DESCRIPTION:Mix: PA
LOCATION: Praia da Lagoa de Albufeira 1
DTSTART;TZID=Europe/Lisbon:20260516T140000
DURATION: P60M
GEO:0.0000000000000;0.0000000000000
END:VEVENT

BEGIN:VEVENT
SUMMARY:-
DESCRIPTION:Mix: PB
LOCATION: Praia da Lagoa de Albufeira 2
DTSTART;TZID=Europe/Lisbon:20260516T100000
DURATION: P60M
GEO:0.0000000000000;0.0000000000000
END:VEVENT

BEGIN:VEVENT
SUMMARY:-
DESCRIPTION:Mix: PB
LOCATION: Praia da Lagoa de Albufeira 1
DTSTART;TZID=Europe/Lisbon:20260516T110000
DURATION: P60M
GEO:0.0000000000000;0.0000000000000
END:VEVENT

BEGIN:VEVENT
SUMMARY:-
DESCRIPTION:Mix: PB
LOCATION: Praia da Lagoa de Albufeira 1
DTSTART;TZID=Europe/Lisbon:20260516T130000
DURATION: P60M
GEO:0.0000000000000;0.0000000000000
END:VEVENT

BEGIN:VEVENT
SUMMARY:-
DESCRIPTION:Mix: PB
LOCATION: Praia da Lagoa de Albufeira 2
DTSTART;TZID=Europe/Lisbon:20260516T130000
DURATION: P60M
GEO:0.0000000000000;0.0000000000000
END:VEVENT

BEGIN:VEVENT
SUMMARY:-
DESCRIPTION:Mix: PB
LOCATION: Praia da Lagoa de Albufeira 1
DTSTART;TZID=Europe/Lisbon:20260516T150000
DURATION: P60M
GEO:0.0000000000000;0.0000000000000
END:VEVENT

BEGIN:VEVENT
SUMMARY:-
DESCRIPTION:Mix: PB
LOCATION: Praia da Lagoa de Albufeira 2
DTSTART;TZID=Europe/Lisbon:20260516T150000
DURATION: P60M
GEO:0.0000000000000;0.0000000000000
END:VEVENT

BEGIN:VEVENT
SUMMARY:-
DESCRIPTION:Mix: Playoff
LOCATION: Praia da Lagoa de Albufeira 1
DTSTART;TZID=Europe/Lisbon:20260517T100000
DURATION: P60M
GEO:0.0000000000000;0.0000000000000
END:VEVENT

BEGIN:VEVENT
SUMMARY:-
DESCRIPTION:Mix: Playoff
LOCATION: Praia da Lagoa de Albufeira 2
DTSTART;TZID=Europe/Lisbon:20260517T100000
DURATION: P60M
GEO:0.0000000000000;0.0000000000000
END:VEVENT

BEGIN:VEVENT
SUMMARY:-
DESCRIPTION:Mix: Playoff Finals
LOCATION: Praia da Lagoa de Albufeira 1
DTSTART;TZID=Europe/Lisbon:20260517T120000
DURATION: P60M
GEO:0.0000000000000;0.0000000000000
END:VEVENT

BEGIN:VEVENT
SUMMARY:-
DESCRIPTION:Mix: Playoff Finals
LOCATION: Praia da Lagoa de Albufeira 1
DTSTART;TZID=Europe/Lisbon:20260517T140000
DURATION: P60M
GEO:0.0000000000000;0.0000000000000
END:VEVENT

BEGIN:VEVENT
SUMMARY:-
DESCRIPTION:Mix: LP
LOCATION: Praia da Lagoa de Albufeira 1
DTSTART;TZID=Europe/Lisbon:20260517T090000
DURATION: P60M
GEO:0.0000000000000;0.0000000000000
END:VEVENT

BEGIN:VEVENT
SUMMARY:-
DESCRIPTION:Mix: LP
LOCATION: Praia da Lagoa de Albufeira 1
DTSTART;TZID=Europe/Lisbon:20260517T110000
DURATION: P60M
GEO:0.0000000000000;0.0000000000000
END:VEVENT

BEGIN:VEVENT
SUMMARY:-
DESCRIPTION:Mix: LP
LOCATION: Praia da Lagoa de Albufeira 1
DTSTART;TZID=Europe/Lisbon:20260517T130000
DURATION: P60M
GEO:0.0000000000000;0.0000000000000
END:VEVENT

END:VCALENDAR
