BEGIN:VCALENDAR
VERSION:2.0
PRODID: Ultiorganizer


BEGIN:VEVENT
SUMMARY:Lisboa Ultimate Club-Vira o Disco
DESCRIPTION:Mixed: Fase-Grupo
LOCATION: Estadio Dr Magalhaes Pessoa 1
DTSTART;TZID=Europe/Lisbon:20140517T103000
DURATION: P90M
GEO:0.0000000000000;0.0000000000000
END:VEVENT

BEGIN:VEVENT
SUMMARY:Lisboa Ultimate Club-Frisbillanas
DESCRIPTION:Mixed: Fase-Grupo
LOCATION: Estadio Dr Magalhaes Pessoa 1
DTSTART;TZID=Europe/Lisbon:20140517T133000
DURATION: P90M
GEO:0.0000000000000;0.0000000000000
END:VEVENT

BEGIN:VEVENT
SUMMARY:Leiria Flying Objects-Lisboa Ultimate Club
DESCRIPTION:Mixed: Fase-Grupo
LOCATION: Estadio Dr Magalhaes Pessoa  2
DTSTART;TZID=Europe/Lisbon:20140517T150000
DURATION: P90M
GEO:0.0000000000000;0.0000000000000
END:VEVENT

BEGIN:VEVENT
SUMMARY:Lisboa Ultimate Club-Gambozinos
DESCRIPTION:Mixed: Fase-Grupo
LOCATION: Estadio Dr Magalhaes Pessoa 1
DTSTART;TZID=Europe/Lisbon:20140517T180000
DURATION: P90M
GEO:0.0000000000000;0.0000000000000
END:VEVENT

BEGIN:VEVENT
SUMMARY:Quimera-Lisboa Ultimate Club
DESCRIPTION:Mixed: Fase-Grupo
LOCATION: Estadio Dr Magalhaes Pessoa  2
DTSTART;TZID=Europe/Lisbon:20140518T093000
DURATION: P90M
GEO:0.0000000000000;0.0000000000000
END:VEVENT

BEGIN:VEVENT
SUMMARY:Lisboa Ultimate Club-Gambozinos
DESCRIPTION:Mixed: Fase-Final
LOCATION: Estadio Dr Magalhaes Pessoa 1
DTSTART;TZID=Europe/Lisbon:20140518T140000
DURATION: P0M
GEO:0.0000000000000;0.0000000000000
END:VEVENT

END:VCALENDAR
