BEGIN:VCALENDAR
VERSION:2.0
PRODID: Ultiorganizer


BEGIN:VEVENT
SUMMARY:Lisboa Ultimate Club-Leiria Flying Objects
DESCRIPTION:Mista: Liga 2014
LOCATION:  1
DTSTART;TZID=Europe/Lisbon:20140601T120000
DURATION: P60M
GEO:;
END:VEVENT

BEGIN:VEVENT
SUMMARY:Lisboa Ultimate Club-Gambozinos
DESCRIPTION:Mista: Liga 2014
LOCATION:  1
DTSTART;TZID=Europe/Lisbon:20140601T140000
DURATION: P60M
GEO:;
END:VEVENT

BEGIN:VEVENT
SUMMARY:Leiria Flying Objects 2-Lisboa Ultimate Club
DESCRIPTION:Mista: Liga 2014
LOCATION:  1
DTSTART;TZID=Europe/Lisbon:20140601T150000
DURATION: P60M
GEO:;
END:VEVENT

BEGIN:VEVENT
SUMMARY:Lisboa Ultimate Club-Leiria Flying Objects 2
DESCRIPTION:Mista: Liga 2014
LOCATION:  1
DTSTART;TZID=Europe/Lisbon:20141012T130000
DURATION: P60M
GEO:;
END:VEVENT

BEGIN:VEVENT
SUMMARY:Vira o Disco-Lisboa Ultimate Club
DESCRIPTION:Mista: Liga 2014
LOCATION:  1
DTSTART;TZID=Europe/Lisbon:20141012T140000
DURATION: P60M
GEO:;
END:VEVENT

BEGIN:VEVENT
SUMMARY:Beach Ultimate Frisbee Algarve-Lisboa Ultimate Club
DESCRIPTION:Mista: Liga 2014
LOCATION:  1
DTSTART;TZID=Europe/Lisbon:20141012T170000
DURATION: P60M
GEO:;
END:VEVENT

BEGIN:VEVENT
SUMMARY:Leiria Flying Objects-Lisboa Ultimate Club
DESCRIPTION:Mista: Liga 2014
LOCATION:  1
DTSTART;TZID=Europe/Lisbon:20141026T110000
DURATION: P60M
GEO:;
END:VEVENT

BEGIN:VEVENT
SUMMARY:Lisboa Ultimate Club-Beach Ultimate Frisbee Algarve
DESCRIPTION:Mista: Liga 2014
LOCATION:  2
DTSTART;TZID=Europe/Lisbon:20141026T130000
DURATION: P60M
GEO:;
END:VEVENT

BEGIN:VEVENT
SUMMARY:Lisboa Ultimate Club-Vira o Disco
DESCRIPTION:Mista: Liga 2014
LOCATION:  1
DTSTART;TZID=Europe/Lisbon:20141026T160000
DURATION: P60M
GEO:;
END:VEVENT

BEGIN:VEVENT
SUMMARY:Gambozinos-Lisboa Ultimate Club
DESCRIPTION:Mista: Liga 2014
LOCATION:  2
DTSTART;TZID=Europe/Lisbon:20141026T170000
DURATION: P60M
GEO:;
END:VEVENT

END:VCALENDAR
