BEGIN:VCALENDAR
VERSION:2.0
PRODID: Ultiorganizer


BEGIN:VEVENT
SUMMARY:LFO Girls-VOD
DESCRIPTION:Feminino: Pool F
LOCATION:  2
DTSTART;TZID=Europe/Lisbon:20221113T100000
DURATION: P60M
GEO:;
END:VEVENT

BEGIN:VEVENT
SUMMARY:LFO Girls-Dolzinas
DESCRIPTION:Feminino: Pool F
LOCATION:  2
DTSTART;TZID=Europe/Lisbon:20221113T123000
DURATION: P60M
GEO:;
END:VEVENT

BEGIN:VEVENT
SUMMARY:LUC-LFO Girls
DESCRIPTION:Feminino: Pool F
LOCATION:  1
DTSTART;TZID=Europe/Lisbon:20221113T150000
DURATION: P60M
GEO:;
END:VEVENT

END:VCALENDAR
