BEGIN:VCALENDAR
VERSION:2.0
PRODID: Ultiorganizer


BEGIN:VEVENT
SUMMARY:VOD-Gambozinas
DESCRIPTION:Feminino: Pool F
LOCATION: Campo Da Charneca 1
DTSTART;TZID=Europe/Lisbon:20230723T101000
DURATION: P60M
GEO:39.7338638305664;-8.7701702117920
END:VEVENT

BEGIN:VEVENT
SUMMARY:Gambozinas-LFO Girls
DESCRIPTION:Feminino: Pool F
LOCATION: Campo Da Charneca 1
DTSTART;TZID=Europe/Lisbon:20230723T140000
DURATION: P60M
GEO:39.7338638305664;-8.7701702117920
END:VEVENT

BEGIN:VEVENT
SUMMARY:DOL-Gambozinas
DESCRIPTION:Feminino: Pool F
LOCATION: Campo Da Charneca 1
DTSTART;TZID=Europe/Lisbon:20230723T161000
DURATION: P60M
GEO:39.7338638305664;-8.7701702117920
END:VEVENT

END:VCALENDAR
