BEGIN:VCALENDAR
VERSION:2.0
PRODID: Ultiorganizer


BEGIN:VEVENT
SUMMARY:DOL-UFA
DESCRIPTION:Feminino: Pool F
LOCATION: Praia de Carcavelos 2
DTSTART;TZID=Europe/Lisbon:20231126T103000
DURATION: P60M
GEO:38.6799430847168;-9.3326292037964
END:VEVENT

BEGIN:VEVENT
SUMMARY:Marias-DOL
DESCRIPTION:Feminino: Pool F
LOCATION: Praia de Carcavelos 1
DTSTART;TZID=Europe/Lisbon:20231126T123000
DURATION: P60M
GEO:38.6799430847168;-9.3326292037964
END:VEVENT

BEGIN:VEVENT
SUMMARY:LFO Girls-DOL
DESCRIPTION:Feminino: Pool F
LOCATION: Praia de Carcavelos 2
DTSTART;TZID=Europe/Lisbon:20231126T143000
DURATION: P60M
GEO:38.6799430847168;-9.3326292037964
END:VEVENT

END:VCALENDAR
